BEGIN:VCALENDAR
VERSION:2.0
PRODID:-//Tukios.com/
BEGIN:VEVENT
UID:0bba6c1c-97c7-4948-863c-fb1d07a62866@www.ridgewayfuneralhome.com
DTSTAMP:20260424T163342Z
DTSTART:20260504T160000Z
DTEND:20260504T180000Z
SUMMARY:Visitation
DESCRIPTION:
URL:https://www.ridgewayfuneralhome.com/obituaries/annie-louise-wall
LOCATION:Ridgeway Funeral Home 201 Dunlap St  Paris TN 38242
GEO:36.3008881;-88.3230578
END:VEVENT
END:VCALENDAR