BEGIN:VCALENDAR
VERSION:2.0
PRODID:-//Tukios.com/
BEGIN:VEVENT
UID:7f957c3d-a344-441e-86de-8c4d6640f024@www.ridgewayfuneralhome.com
DTSTAMP:20260424T163245Z
DTSTART:20260504T180000Z
DTEND:20260504T190000Z
SUMMARY:Funeral Service
DESCRIPTION:
URL:https://www.ridgewayfuneralhome.com/obituaries/annie-louise-wall
LOCATION:Ridgeway Funeral Home 201 Dunlap St  Paris TN 38242
GEO:36.3008881;-88.3230578
END:VEVENT
END:VCALENDAR