BEGIN:VCALENDAR
VERSION:2.0
PRODID:-//Tukios.com/
BEGIN:VEVENT
UID:9d7222a9-393e-4bdd-a339-4dd35a695ebd@www.ridgewayfuneralhome.com
DTSTAMP:20260424T002002Z
DTSTART:20260427T150000Z
DTEND:20260427T180000Z
SUMMARY:Visitation
DESCRIPTION:
URL:https://www.ridgewayfuneralhome.com/obituaries/brenda-hosford
LOCATION:Ridgeway Funeral Home 201 Dunlap St  Paris TN 38242
GEO:36.3008881;-88.3230578
END:VEVENT
END:VCALENDAR