BEGIN:VCALENDAR
VERSION:2.0
PRODID:-//Tukios.com/
BEGIN:VEVENT
UID:0e31c043-6dfe-44d7-8747-76abd9fa0d00@www.ridgewayfuneralhome.com
DTSTAMP:20260424T001819Z
DTSTART:20260427T180000Z
DTEND:20260427T190000Z
SUMMARY:Funeral Service
DESCRIPTION:
URL:https://www.ridgewayfuneralhome.com/obituaries/brenda-hosford
LOCATION:Ridgeway Funeral Home 201 Dunlap St  Paris TN 38242
GEO:36.3008881;-88.3230578
END:VEVENT
END:VCALENDAR