BEGIN:VCALENDAR
VERSION:2.0
PRODID:-//Tukios.com/
BEGIN:VEVENT
UID:39f3441b-edd0-4f48-b79a-82ce442bba86@www.ridgewayfuneralhome.com
DTSTAMP:20260421T184232Z
DTSTART:20260425T180000Z
DTEND:20260425T190000Z
SUMMARY:Funeral Service
DESCRIPTION:
URL:https://www.ridgewayfuneralhome.com/obituaries/gary-s-beecham
LOCATION:Ridgeway Funeral Home 201 Dunlap St  Paris TN 38242
GEO:36.3008881;-88.3230578
END:VEVENT
END:VCALENDAR