BEGIN:VCALENDAR
VERSION:2.0
PRODID:-//Tukios.com/
BEGIN:VEVENT
UID:84882565-fa09-4049-a1e3-636f7223be26@www.ridgewayfuneralhome.com
DTSTAMP:20260422T172724Z
DTSTART:20260502T180000Z
DTEND:20260502T190000Z
SUMMARY:Celebration of Life
DESCRIPTION:
URL:https://www.ridgewayfuneralhome.com/obituaries/michael-hunter
LOCATION:American Legion Post 89 4326 E Antioch Rd  Springville TN 38256
GEO:36.3937858;-88.1135155
END:VEVENT
END:VCALENDAR