BEGIN:VCALENDAR
VERSION:2.0
PRODID:-//Tukios.com/
BEGIN:VEVENT
UID:4b04eb2a-9f7a-405b-8651-bc6819340777@www.ridgewayfuneralhome.com
DTSTAMP:20260419T183427Z
DTSTART:20260421T170000Z
DTEND:20260421T190000Z
SUMMARY:Visitation
DESCRIPTION:
URL:https://www.ridgewayfuneralhome.com/obituaries/rebecca-howell
LOCATION: 201 Dunlap St  Paris TN 38242
GEO:36.3008881;-88.3230578
END:VEVENT
END:VCALENDAR