BEGIN:VCALENDAR
VERSION:2.0
PRODID:-//Tukios.com/
BEGIN:VEVENT
UID:1975a21c-4ac6-4e9e-a7bd-b2c7fc1d9bb5@www.ridgewayfuneralhome.com
DTSTAMP:20260419T184215Z
DTSTART:20260421T193000Z
DTEND:20260421T203000Z
SUMMARY:Graveside Service
DESCRIPTION:
URL:https://www.ridgewayfuneralhome.com/obituaries/rebecca-howell
LOCATION: TN-140  Puryear TN 38251
GEO:36.4436091;-88.3319844
END:VEVENT
END:VCALENDAR