BEGIN:VCALENDAR
VERSION:2.0
PRODID:-//Tukios.com/
BEGIN:VEVENT
UID:17d140e6-2e09-4a33-8a37-852188a0ebc9@www.ridgewayfuneralhome.com
DTSTAMP:20260425T182431Z
DTSTART:20260429T160000Z
DTEND:20260429T180000Z
SUMMARY:Visitation with Family
DESCRIPTION:
URL:https://www.ridgewayfuneralhome.com/obituaries/shirley-mcdaniel
LOCATION: 201 Dunlap St  Paris TN 38242
GEO:36.3008881;-88.3230578
END:VEVENT
END:VCALENDAR