BEGIN:VCALENDAR
VERSION:2.0
PRODID:-//Tukios.com/
BEGIN:VEVENT
UID:1165ffda-8553-4ed5-8271-d466d69c9a28@www.ridgewayfuneralhome.com
DTSTAMP:20260425T181610Z
DTSTART:20260429T180000Z
DTEND:20260429T190000Z
SUMMARY:Memorial Service
DESCRIPTION:
URL:https://www.ridgewayfuneralhome.com/obituaries/shirley-mcdaniel
LOCATION: 201 Dunlap St  Paris TN 38242
GEO:36.3008881;-88.3230578
END:VEVENT
END:VCALENDAR