BEGIN:VCALENDAR
VERSION:2.0
PRODID:-//Tukios.com/
BEGIN:VEVENT
UID:f55d425c-f629-4e91-9e78-0335b75b4daa@www.ridgewayfuneralhome.com
DTSTAMP:20260423T182034Z
DTSTART:20260426T170000Z
DTEND:20260426T200000Z
SUMMARY:Visitation
DESCRIPTION:
URL:https://www.ridgewayfuneralhome.com/obituaries/suzanne-wilson
LOCATION:Ridgeway Funeral Home 201 Dunlap St  Paris TN 38242
GEO:36.3008881;-88.3230578
END:VEVENT
END:VCALENDAR