BEGIN:VCALENDAR
VERSION:2.0
PRODID:-//Tukios.com/
BEGIN:VEVENT
UID:21c75847-89eb-47ff-ba71-caab8be54532@www.ridgewayfuneralhome.com
DTSTAMP:20260422T233207Z
DTSTART:20260425T190000Z
DTEND:20260425T210000Z
SUMMARY:Visitation
DESCRIPTION:
URL:https://www.ridgewayfuneralhome.com/obituaries/tommy-madden-sr
LOCATION:Bethesda United Methodist Church 200 Bethesda Rd  Paris TN 38242
GEO:36.2802312;-88.2478866
END:VEVENT
END:VCALENDAR