BEGIN:VCALENDAR
VERSION:2.0
PRODID:-//Tukios.com/
BEGIN:VEVENT
UID:5abab9fb-9543-44d6-896f-1eefe5234be3@www.ridgewayfuneralhome.com
DTSTAMP:20260422T233053Z
DTSTART:20260425T210000Z
DTEND:20260425T220000Z
SUMMARY:Funeral Service
DESCRIPTION:
URL:https://www.ridgewayfuneralhome.com/obituaries/tommy-madden-sr
LOCATION:Bethesda United Methodist Church 200 Bethesda Rd  Paris TN 38242
GEO:36.2802312;-88.2478866
END:VEVENT
END:VCALENDAR